BEGIN:VCALENDAR
VERSION:2.0
PRODID:-//KC Bier Meisters - ECPv6.15.20//NONSGML v1.0//EN
CALSCALE:GREGORIAN
METHOD:PUBLISH
X-WR-CALNAME:KC Bier Meisters
X-ORIGINAL-URL:https://kcbiermeisters.com
X-WR-CALDESC:Events for KC Bier Meisters
REFRESH-INTERVAL;VALUE=DURATION:PT1H
X-Robots-Tag:noindex
X-PUBLISHED-TTL:PT1H
BEGIN:VTIMEZONE
TZID:America/Chicago
BEGIN:DAYLIGHT
TZOFFSETFROM:-0600
TZOFFSETTO:-0500
TZNAME:CDT
DTSTART:20170312T080000
END:DAYLIGHT
BEGIN:STANDARD
TZOFFSETFROM:-0500
TZOFFSETTO:-0600
TZNAME:CST
DTSTART:20171105T070000
END:STANDARD
BEGIN:DAYLIGHT
TZOFFSETFROM:-0600
TZOFFSETTO:-0500
TZNAME:CDT
DTSTART:20180311T080000
END:DAYLIGHT
BEGIN:STANDARD
TZOFFSETFROM:-0500
TZOFFSETTO:-0600
TZNAME:CST
DTSTART:20181104T070000
END:STANDARD
BEGIN:DAYLIGHT
TZOFFSETFROM:-0600
TZOFFSETTO:-0500
TZNAME:CDT
DTSTART:20190310T080000
END:DAYLIGHT
BEGIN:STANDARD
TZOFFSETFROM:-0500
TZOFFSETTO:-0600
TZNAME:CST
DTSTART:20191103T070000
END:STANDARD
BEGIN:DAYLIGHT
TZOFFSETFROM:-0600
TZOFFSETTO:-0500
TZNAME:CDT
DTSTART:20200308T080000
END:DAYLIGHT
BEGIN:STANDARD
TZOFFSETFROM:-0500
TZOFFSETTO:-0600
TZNAME:CST
DTSTART:20201101T070000
END:STANDARD
END:VTIMEZONE
BEGIN:VEVENT
DTSTART;TZID=America/Chicago:20190816T190000
DTEND;TZID=America/Chicago:20190816T220000
DTSTAMP:20260423T143320
CREATED:20190711T190200Z
LAST-MODIFIED:20200527T114155Z
UID:428-1565982000-1565992800@kcbiermeisters.com
SUMMARY:KCBM August Meeting
DESCRIPTION:Topic TBA
URL:https://kcbiermeisters.com/calendar/kcbm-august-meeting-2/
LOCATION:Christ the King Catholic church\, 8510 Wornall Rd\, Kansas City\, MO\, 64114\, United States
CATEGORIES:Club,Meetings
END:VEVENT
BEGIN:VEVENT
DTSTART;TZID=America/Chicago:20190810T120000
DTEND;TZID=America/Chicago:20190810T170000
DTSTAMP:20260423T143320
CREATED:20190711T190022Z
LAST-MODIFIED:20190711T190022Z
UID:426-1565438400-1565456400@kcbiermeisters.com
SUMMARY:Mead Day
DESCRIPTION:Mead Day! Location and more info to be announced soon!
URL:https://kcbiermeisters.com/calendar/mead-day/
LOCATION:MO
END:VEVENT
BEGIN:VEVENT
DTSTART;TZID=America/Chicago:20190719T190000
DTEND;TZID=America/Chicago:20190719T213000
DTSTAMP:20260423T143320
CREATED:20180719T235757Z
LAST-MODIFIED:20200527T114235Z
UID:140-1563562800-1563571800@kcbiermeisters.com
SUMMARY:KCBM July Meeting
DESCRIPTION:Join us as we go over modern mead making techniques! We will have plenty of mead to sample as well as over 20+ different honey varietals. The presentation will be conducted by Shane Kammerer and Jason Elder.
URL:https://kcbiermeisters.com/calendar/kcbm-july-meeting/
LOCATION:Christ the King Catholic church\, 8510 Wornall Rd\, Kansas City\, MO\, 64114\, United States
CATEGORIES:Club,Meetings
END:VEVENT
BEGIN:VEVENT
DTSTART;TZID=America/Chicago:20190714T120000
DTEND;TZID=America/Chicago:20190714T160000
DTSTAMP:20260423T143320
CREATED:20190711T192011Z
LAST-MODIFIED:20200527T113455Z
UID:434-1563105600-1563120000@kcbiermeisters.com
SUMMARY:Homebrewing Expo
DESCRIPTION:Inaugural Crane Brewing Homebrew Day. This will showcase all of the clubs in the area as well as for-sale homebrewing equipment and more!
URL:https://kcbiermeisters.com/calendar/homebrewing-expo/
LOCATION:Crane Brewing\, 6515 Railroad st\, Raytown\, MO\, 64113\, United States
CATEGORIES:Special Event
END:VEVENT
BEGIN:VEVENT
DTSTART;TZID=America/Chicago:20190517T190000
DTEND;TZID=America/Chicago:20190517T220000
DTSTAMP:20260423T143320
CREATED:20190508T123833Z
LAST-MODIFIED:20200527T114249Z
UID:405-1558119600-1558130400@kcbiermeisters.com
SUMMARY:Monthly meeting
DESCRIPTION:Will be voting on our new board members as well as a quest speaker TBD.
URL:https://kcbiermeisters.com/calendar/monthly-meeting/
LOCATION:Christ the King Catholic church\, 8510 Wornall Rd\, Kansas City\, MO\, 64114\, United States
CATEGORIES:Club,Meetings
END:VEVENT
BEGIN:VEVENT
DTSTART;TZID=America/Chicago:20190427T100000
DTEND;TZID=America/Chicago:20190427T170000
DTSTAMP:20260423T143320
CREATED:20190311T184448Z
LAST-MODIFIED:20200527T114303Z
UID:388-1556359200-1556384400@kcbiermeisters.com
SUMMARY:Parkville Brew Fest
DESCRIPTION:Parkville Brew fest. More details coming!
URL:https://kcbiermeisters.com/calendar/parkville-brew-fest/
LOCATION:MO
CATEGORIES:Festivals
END:VEVENT
BEGIN:VEVENT
DTSTART;TZID=America/Chicago:20190426T190000
DTEND;TZID=America/Chicago:20190426T220000
DTSTAMP:20260423T143320
CREATED:20190311T183244Z
LAST-MODIFIED:20200527T114316Z
UID:386-1556305200-1556316000@kcbiermeisters.com
SUMMARY:KCBM Monthly meeting
DESCRIPTION:We will be going through board nominations as well as a presentation over the KCBM Barrel project including samples of beer from each of the barrels!
URL:https://kcbiermeisters.com/calendar/kcbm-monthly-meeting-2/
LOCATION:Christ the King Catholic church\, 8510 Wornall Rd\, Kansas City\, MO\, 64114\, United States
CATEGORIES:Club,Meetings
END:VEVENT
BEGIN:VEVENT
DTSTART;TZID=America/Chicago:20190409T190000
DTEND;TZID=America/Chicago:20190409T220000
DTSTAMP:20260423T143320
CREATED:20190311T181729Z
LAST-MODIFIED:20200527T113608Z
UID:382-1554836400-1554847200@kcbiermeisters.com
SUMMARY:KCBM Social Night
DESCRIPTION:Location TBD
URL:https://kcbiermeisters.com/calendar/kcbm-social-night-2/
LOCATION:MO
CATEGORIES:Social
END:VEVENT
BEGIN:VEVENT
DTSTART;TZID=America/Chicago:20190322T190000
DTEND;TZID=America/Chicago:20190322T220000
DTSTAMP:20260423T143320
CREATED:20190311T180738Z
LAST-MODIFIED:20200527T114336Z
UID:377-1553281200-1553292000@kcbiermeisters.com
SUMMARY:KCBM Monthly meeting
DESCRIPTION:KCBM Monthly meeting. Topic TBD.
URL:https://kcbiermeisters.com/calendar/kcbm-monthly-meeting/
LOCATION:Christ the King Catholic church\, 8510 Wornall Rd\, Kansas City\, MO\, 64114\, United States
CATEGORIES:Club,Meetings
END:VEVENT
BEGIN:VEVENT
DTSTART;TZID=America/Chicago:20181020T170000
DTEND;TZID=America/Chicago:20181020T233000
DTSTAMP:20260423T143320
CREATED:20180821T021807Z
LAST-MODIFIED:20200527T114352Z
UID:298-1540054800-1540078200@kcbiermeisters.com
SUMMARY:KCBM Oktoberfest 2018
DESCRIPTION:
URL:https://kcbiermeisters.com/calendar/kcbm-oktoberfest-2018/
LOCATION:MO
CATEGORIES:Celebration
END:VEVENT
BEGIN:VEVENT
DTSTART;TZID=America/Chicago:20181019T190000
DTEND;TZID=America/Chicago:20181019T220000
DTSTAMP:20260423T143320
CREATED:20181009T193219Z
LAST-MODIFIED:20200527T114405Z
UID:309-1539975600-1539986400@kcbiermeisters.com
SUMMARY:KCBM October Meeting
DESCRIPTION:Our October meeting will be one you don’t want to miss! Omega Yeast will be coming in to do a presentation over the history and usage of Kviek Yeasts as well as some yeast basics! Kviek yeasts are a hot item right now and Omega Yeast has the largest selections of Kviek yeasts available currently. After the presentation there will be a Q/A session and a drawing for Omega swag. We will also be tasting our Meads that were made during our mead day!
URL:https://kcbiermeisters.com/calendar/kcbm-october-meeting/
LOCATION:Christ the King Catholic church\, 8510 Wornall Rd\, Kansas City\, MO\, 64114\, United States
CATEGORIES:Club,Meetings
END:VEVENT
BEGIN:VEVENT
DTSTART;TZID=America/Chicago:20181011T200000
DTEND;TZID=America/Chicago:20181011T210000
DTSTAMP:20260423T143320
CREATED:20181009T195050Z
LAST-MODIFIED:20200527T114416Z
UID:316-1539288000-1539291600@kcbiermeisters.com
SUMMARY:KCBM Board Meeting
DESCRIPTION:Monthly KCBM Board Meeting
URL:https://kcbiermeisters.com/calendar/kcbm-board-meeting/
LOCATION:Bier Station\, 120 E. Gregory Boulevard\, Kansas City\, MO\, 64114\, United States
CATEGORIES:Board,Meetings
END:VEVENT
BEGIN:VEVENT
DTSTART;TZID=America/Chicago:20181011T190000
DTEND;TZID=America/Chicago:20181011T200000
DTSTAMP:20260423T143320
CREATED:20181009T194637Z
LAST-MODIFIED:20200527T114428Z
UID:314-1539284400-1539288000@kcbiermeisters.com
SUMMARY:KCBM Comp Meeting
DESCRIPTION:Comp meeting to begin planning of KCBM annual competition
URL:https://kcbiermeisters.com/calendar/kcbm-comp-meeting/
LOCATION:Bier Station\, 120 E. Gregory Boulevard\, Kansas City\, MO\, 64114\, United States
CATEGORIES:Competition,Meetings
END:VEVENT
BEGIN:VEVENT
DTSTART;TZID=America/Chicago:20181009T190000
DTEND;TZID=America/Chicago:20181009T210000
DTSTAMP:20260423T143320
CREATED:20181009T193428Z
LAST-MODIFIED:20200527T113701Z
UID:312-1539111600-1539118800@kcbiermeisters.com
SUMMARY:KCBM Social Hour
DESCRIPTION:Getting together for a few beers at KC Bier Co. Come on out and join us!
URL:https://kcbiermeisters.com/calendar/kcbm-social-hour/
LOCATION:MO
CATEGORIES:Social
END:VEVENT
BEGIN:VEVENT
DTSTART;TZID=America/Chicago:20180921T190000
DTEND;TZID=America/Chicago:20180921T213000
DTSTAMP:20260423T143320
CREATED:20180819T204903Z
LAST-MODIFIED:20200527T114447Z
UID:293-1537556400-1537565400@kcbiermeisters.com
SUMMARY:KCBM September Meeting
DESCRIPTION:
URL:https://kcbiermeisters.com/calendar/kcbm-september-meeting/
LOCATION:Christ the King Catholic church\, 8510 Wornall Rd\, Kansas City\, MO\, 64114\, United States
CATEGORIES:Club,Meetings
END:VEVENT
BEGIN:VEVENT
DTSTART;TZID=America/Chicago:20180911T193000
DTEND;TZID=America/Chicago:20180911T213000
DTSTAMP:20260423T143320
CREATED:20180910T185153Z
LAST-MODIFIED:20200527T113638Z
UID:304-1536694200-1536701400@kcbiermeisters.com
SUMMARY:KCBM Social Night - Sept
DESCRIPTION:
URL:https://kcbiermeisters.com/calendar/kcbm-social-night-sept/
LOCATION:Bier Station\, 120 E. Gregory Boulevard\, Kansas City\, MO\, 64114\, United States
CATEGORIES:Social
END:VEVENT
BEGIN:VEVENT
DTSTART;TZID=America/Chicago:20180817T190000
DTEND;TZID=America/Chicago:20180817T213000
DTSTAMP:20260423T143320
CREATED:20180809T064845Z
LAST-MODIFIED:20200527T114506Z
UID:255-1534532400-1534541400@kcbiermeisters.com
SUMMARY:KCBM August Meeting
DESCRIPTION:
URL:https://kcbiermeisters.com/calendar/kcbm-august-meeting/
LOCATION:Christ the King Catholic church\, 8510 Wornall Rd\, Kansas City\, MO\, 64114\, United States
CATEGORIES:Club,Meetings
END:VEVENT
END:VCALENDAR