BEGIN:VCALENDAR
VERSION:2.0
PRODID:-//KC Bier Meisters - ECPv6.15.20//NONSGML v1.0//EN
CALSCALE:GREGORIAN
METHOD:PUBLISH
X-WR-CALNAME:KC Bier Meisters
X-ORIGINAL-URL:https://kcbiermeisters.com
X-WR-CALDESC:Events for KC Bier Meisters
REFRESH-INTERVAL;VALUE=DURATION:PT1H
X-Robots-Tag:noindex
X-PUBLISHED-TTL:PT1H
BEGIN:VTIMEZONE
TZID:America/Chicago
BEGIN:DAYLIGHT
TZOFFSETFROM:-0600
TZOFFSETTO:-0500
TZNAME:CDT
DTSTART:20220313T080000
END:DAYLIGHT
BEGIN:STANDARD
TZOFFSETFROM:-0500
TZOFFSETTO:-0600
TZNAME:CST
DTSTART:20221106T070000
END:STANDARD
BEGIN:DAYLIGHT
TZOFFSETFROM:-0600
TZOFFSETTO:-0500
TZNAME:CDT
DTSTART:20230312T080000
END:DAYLIGHT
BEGIN:STANDARD
TZOFFSETFROM:-0500
TZOFFSETTO:-0600
TZNAME:CST
DTSTART:20231105T070000
END:STANDARD
BEGIN:DAYLIGHT
TZOFFSETFROM:-0600
TZOFFSETTO:-0500
TZNAME:CDT
DTSTART:20240310T080000
END:DAYLIGHT
BEGIN:STANDARD
TZOFFSETFROM:-0500
TZOFFSETTO:-0600
TZNAME:CST
DTSTART:20241103T070000
END:STANDARD
BEGIN:DAYLIGHT
TZOFFSETFROM:-0600
TZOFFSETTO:-0500
TZNAME:CDT
DTSTART:20250309T080000
END:DAYLIGHT
BEGIN:STANDARD
TZOFFSETFROM:-0500
TZOFFSETTO:-0600
TZNAME:CST
DTSTART:20251102T070000
END:STANDARD
BEGIN:DAYLIGHT
TZOFFSETFROM:-0600
TZOFFSETTO:-0500
TZNAME:CDT
DTSTART:20260308T080000
END:DAYLIGHT
BEGIN:STANDARD
TZOFFSETFROM:-0500
TZOFFSETTO:-0600
TZNAME:CST
DTSTART:20261101T070000
END:STANDARD
END:VTIMEZONE
BEGIN:VEVENT
DTSTART;TZID=America/Chicago:20251219T190000
DTEND;TZID=America/Chicago:20251219T220000
DTSTAMP:20260423T015515
CREATED:20251120T051909Z
LAST-MODIFIED:20251125T033718Z
UID:2070-1766170800-1766181600@kcbiermeisters.com
SUMMARY:December Monthly Meeting
DESCRIPTION:December Monthly Meeting\n\n\nFriday\, December 19th at 7:00 PM\n\n\nKCBM Holiday Party\n\n\n \n\n\n\nIt’s time again for the Annual KCBM Holiday Party! \nJoin us on December 19th for another night of laughs\, sharing\,\nWe’ll have a club potluck\, dirty santa bottle exchange\, and Friendship Brew judging! Come jolly and ready to close out the year with your KCBM Family! \nLocation:VFW Post 73979550 Pflumm RdLenexa\, KS 66215Schedule:6:30-7:00 Social Time7:00-7:30 Club Business7:30-7:40 Social Time7:40-8:40 Presentation8:40-9:00 Social Time & Homebrew EvaluationsAs always\, please bring some homebrewed beer\, cider\, wine\, or mead to share!
URL:https://kcbiermeisters.com/calendar/december-monthly-meeting/
LOCATION:VFW 7397\, 9550 Pflumm Rd\, Lenexa\, KS\, 66215\, United States
CATEGORIES:Club,Meetings
END:VEVENT
BEGIN:VEVENT
DTSTART;TZID=America/Chicago:20251206T160000
DTEND;TZID=America/Chicago:20251206T180000
DTSTAMP:20260423T015515
CREATED:20251125T033010Z
LAST-MODIFIED:20251125T033254Z
UID:2079-1765036800-1765044000@kcbiermeisters.com
SUMMARY:December Social
DESCRIPTION:December Monthly Social\n\n\nSaturday\, December 6th at 4:00 PM\n\n\nAlma Mader\n\n\nJoin us at Alma Mader for our last club social of 2025!
URL:https://kcbiermeisters.com/calendar/december-social-2/
LOCATION:Alma Mader\, 2635 Southwest Blvd\,\, Kansas City\, Missouri\, 64108\, United States
CATEGORIES:Social
ORGANIZER;CN="Social Chair":MAILTO:myles.burkemper@gmail.com
END:VEVENT
BEGIN:VEVENT
DTSTART;TZID=America/Chicago:20251201T190000
DTEND;TZID=America/Chicago:20251201T230000
DTSTAMP:20260423T015515
CREATED:20251125T033635Z
LAST-MODIFIED:20251125T034334Z
UID:2083-1764615600-1764630000@kcbiermeisters.com
SUMMARY:KCBM 43 Entry Registration Opens
DESCRIPTION:KCBM 43 opens for entry registration on 12/1 at 7pm CST. Make sure to set a calendar reminder and get your entries in! Brewers are limited to 6 entries. Scale Ups and category 62A entries will not count towards your per brewer total.\n\n\n\nThis year we will have a specialty category 43A – Saturday Night Pints. These beers will embody everything New York City!\n62A- Saturday Night Pints Style GuidelinesWe will also be offering scale up opportunities with the following Kansas City Breweries!KC Bier Co.\nStrange Days\nTransport\nDiscourse \nThe Saturday Night Pints and Scale Up categories will not count towards your total entry limit. More information for these specialty categories and the competition as a whole is available on the competition site linked below. \nStart planning your beers and your banquet costumes now! \n\n\n\n\n\nhttps://brewingcompetitions.com/kcbm/\n\n\n\n\n\nFollow the Kansas City Bier Meisters Annual Competition facebook page for the latest updates and info!
URL:https://kcbiermeisters.com/calendar/kcbm-entry-registration-opens/
CATEGORIES:Competition
END:VEVENT
BEGIN:VEVENT
DTSTART;TZID=America/Chicago:20251121T190000
DTEND;TZID=America/Chicago:20251121T220000
DTSTAMP:20260423T015515
CREATED:20251120T051704Z
LAST-MODIFIED:20251120T051704Z
UID:2068-1763751600-1763762400@kcbiermeisters.com
SUMMARY:November Monthly Meeting
DESCRIPTION:November Monthly Meeting\n\n\nFriday\, November 21st at 7:00 PM\n\n\nClone Wars – Boulevard Pale Ale\n\n\nThe gauntlet has been thrown by two time defending champion Eric Martin to brew your best Boulevard Pale Ale clone. Bring your best Pale Ale clone beer and try to fool the club into thinking your beer is the real Boulevard Pale Ale!We will do a series of blind tastings to both see what the club thinks is the real Boulevard Pale Ale and then after revealing the true Pale Ale\, determining which clone recipe stacks up the closest to it. \n\n\nLocation:VFW Post 73979550 Pflumm RdLenexa\, KS 66215Schedule:6:30-7:00 Social Time7:00-7:30 Club Business7:30-7:40 Social Time7:40-8:40 Presentation8:40-9:00 Social Time & Homebrew EvaluationsAs always\, please bring some homebrewed beer\, cider\, wine\, or mead to share!Same as last month\, anybody who brings in a homebrewed beverage will get a raffle ticket for some fun prizes at the meeting! If you don’t have any homebrew to bring\, or just want some extra raffle tickets to help your chance of winning\, we are selling extras for $1 a piece. Cash or Paypal accepted.
URL:https://kcbiermeisters.com/calendar/november-monthly-meeting-2/
LOCATION:VFW 7397\, 9550 Pflumm Rd\, Lenexa\, KS\, 66215\, United States
CATEGORIES:Club,Meetings
END:VEVENT
BEGIN:VEVENT
DTSTART;TZID=America/Chicago:20251017T190000
DTEND;TZID=America/Chicago:20251017T220000
DTSTAMP:20260423T015515
CREATED:20251014T033144Z
LAST-MODIFIED:20251014T034159Z
UID:2002-1760727600-1760738400@kcbiermeisters.com
SUMMARY:October Monthly Meeting
DESCRIPTION:October Monthly Meeting\nFriday\, October 17th at 7:00 PM\nLearn From the Pros! Recipe development with Logan Hartpence\nHelp us welcome Logan Hartpence from East 40 Brewing as he walks us through the process of how a commercial brewery builds a new recipe. We’ll walk through the creative process\, ingredient selection\, and some math. After learning the basics\, as a group we’ll collaborate with Logan and put what we’ve learned to the test to design a beer to be brewed on the East 40 system! \nWe will also be selecting as a club our three representatives for the One Beer Brewoff club competition. Make sure to sign up below if you have an English style you want to enter and have judged by the group!\nhttps://forms.gle/7f5ua3ENb7GRYFXA9 \nLocation:\nVFW Post 7397\n9550 Pflumm Rd\nLenexa\, KS 66215 \nSchedule:\n6:30-7:00 Social Time\n7:00-7:30 Club Business\n7:30-7:40 Social Time\n7:40-8:40 Presentation\n8:40-9:00 Social Time & Homebrew Evaluations \nAs always\, please bring some homebrewed beer\, cider\, wine\, or mead to share! \nSame as last month\, anybody who brings in a homebrewed beverage will get a raffle ticket for some fun prizes at the meeting! If you don’t have any homebrew to bring\, or just want some extra raffle tickets to help your chance of winning\, we are selling extras for $1 a piece. Cash or Paypal accepted.
URL:https://kcbiermeisters.com/calendar/october-monthly-meeting/
LOCATION:VFW 7397\, 9550 Pflumm Rd\, Lenexa\, KS\, 66215\, United States
CATEGORIES:Club,Meetings
END:VEVENT
BEGIN:VEVENT
DTSTART;TZID=America/Chicago:20240920T190000
DTEND;TZID=America/Chicago:20240920T220000
DTSTAMP:20260423T015515
CREATED:20240326T135727Z
LAST-MODIFIED:20240326T135727Z
UID:1731-1726858800-1726869600@kcbiermeisters.com
SUMMARY:Monthly Meeting
DESCRIPTION:
URL:https://kcbiermeisters.com/calendar/monthly-meeting-7/
LOCATION:VFW 7397\, 9550 Pflumm Rd\, Lenexa\, KS\, 66215\, United States
END:VEVENT
BEGIN:VEVENT
DTSTART;TZID=America/Chicago:20240816T190000
DTEND;TZID=America/Chicago:20240816T220000
DTSTAMP:20260423T015515
CREATED:20240326T135626Z
LAST-MODIFIED:20240326T135626Z
UID:1729-1723834800-1723845600@kcbiermeisters.com
SUMMARY:Monthly Meeting
DESCRIPTION:
URL:https://kcbiermeisters.com/calendar/monthly-meeting-6/
LOCATION:VFW 7397\, 9550 Pflumm Rd\, Lenexa\, KS\, 66215\, United States
END:VEVENT
BEGIN:VEVENT
DTSTART;TZID=America/Chicago:20240719T190000
DTEND;TZID=America/Chicago:20240719T220000
DTSTAMP:20260423T015515
CREATED:20240326T135532Z
LAST-MODIFIED:20240326T135532Z
UID:1727-1721415600-1721426400@kcbiermeisters.com
SUMMARY:Monthly Meeting
DESCRIPTION:
URL:https://kcbiermeisters.com/calendar/monthly-meeting-5/
LOCATION:VFW 7397\, 9550 Pflumm Rd\, Lenexa\, KS\, 66215\, United States
END:VEVENT
BEGIN:VEVENT
DTSTART;TZID=America/Chicago:20240621T190000
DTEND;TZID=America/Chicago:20240621T220000
DTSTAMP:20260423T015515
CREATED:20240326T135318Z
LAST-MODIFIED:20240531T025952Z
UID:1725-1718996400-1719007200@kcbiermeisters.com
SUMMARY:Monthly Meeting
DESCRIPTION:
URL:https://kcbiermeisters.com/calendar/monthly-meeting-4/
LOCATION:VFW 7397\, 9550 Pflumm Rd\, Lenexa\, KS\, 66215\, United States
END:VEVENT
BEGIN:VEVENT
DTSTART;VALUE=DATE:20240603
DTEND;VALUE=DATE:20240609
DTSTAMP:20260423T015515
CREATED:20240326T142952Z
LAST-MODIFIED:20240326T142952Z
UID:1739-1717372800-1717891199@kcbiermeisters.com
SUMMARY:National Homebrew Competition KC Judging
DESCRIPTION:
URL:https://kcbiermeisters.com/calendar/national-homebrew-competition-kc-judging/
LOCATION:KC Bier Co\, 310 W 79th St\, Kansas City\, MO\, 64114\, United States
ORGANIZER;CN="AHA":MAILTO:jasonelder77@yahoo.com
END:VEVENT
BEGIN:VEVENT
DTSTART;TZID=America/Chicago:20240517T190000
DTEND;TZID=America/Chicago:20240517T220000
DTSTAMP:20260423T015515
CREATED:20240326T135206Z
LAST-MODIFIED:20240515T015400Z
UID:1723-1715972400-1715983200@kcbiermeisters.com
SUMMARY:Monthly Meeting
DESCRIPTION:
URL:https://kcbiermeisters.com/calendar/monthly-meeting-3/
LOCATION:Bacchus & Barleycorn\, 6633 Nieman Rd\, Shawnee\, KS\, 66203\, United States
END:VEVENT
BEGIN:VEVENT
DTSTART;TZID=America/Chicago:20240504T100000
DTEND;TZID=America/Chicago:20240504T170000
DTSTAMP:20260423T015515
CREATED:20240326T141457Z
LAST-MODIFIED:20240326T141457Z
UID:1737-1714816800-1714842000@kcbiermeisters.com
SUMMARY:Big Brew Day
DESCRIPTION:
URL:https://kcbiermeisters.com/calendar/big-brew-day/
LOCATION:Bacchus & Barleycorn\, 6633 Nieman Rd\, Shawnee\, KS\, 66203\, United States
END:VEVENT
BEGIN:VEVENT
DTSTART;VALUE=DATE:20240504
DTEND;VALUE=DATE:20240505
DTSTAMP:20260423T015515
CREATED:20240326T141201Z
LAST-MODIFIED:20240326T141201Z
UID:1735-1714780800-1714867199@kcbiermeisters.com
SUMMARY:Neighborhood Bock Party
DESCRIPTION:
URL:https://kcbiermeisters.com/calendar/neighborhood-bock-party/
LOCATION:KC Bier Co\, 310 W 79th St\, Kansas City\, MO\, 64114\, United States
ORGANIZER;CN="Social Chair":MAILTO:myles.burkemper@gmail.com
END:VEVENT
BEGIN:VEVENT
DTSTART;TZID=America/Chicago:20240427T093000
DTEND;TZID=America/Chicago:20240427T183000
DTSTAMP:20260423T015515
CREATED:20240326T140104Z
LAST-MODIFIED:20240326T140104Z
UID:1733-1714210200-1714242600@kcbiermeisters.com
SUMMARY:20th Annual Parkville Microbrew Festival
DESCRIPTION:
URL:https://kcbiermeisters.com/calendar/20th-annual-parkville-microbrew-festival/
LOCATION:Parkville Brewfest @ English Landing Park\, 8701 McAfee St\, Parkville\, 64152\, United States
END:VEVENT
BEGIN:VEVENT
DTSTART;TZID=America/Chicago:20240420T143000
DTEND;TZID=America/Chicago:20240420T173000
DTSTAMP:20260423T015515
CREATED:20240326T134325Z
LAST-MODIFIED:20240326T134325Z
UID:1718-1713623400-1713634200@kcbiermeisters.com
SUMMARY:April Social
DESCRIPTION:
URL:https://kcbiermeisters.com/calendar/april-social/
LOCATION:Discourse Brewing\, 7211 W 97th St\, Overland Park\, KS\, 66212\, United States
END:VEVENT
BEGIN:VEVENT
DTSTART;TZID=America/Chicago:20240419T190000
DTEND;TZID=America/Chicago:20240419T220000
DTSTAMP:20260423T015515
CREATED:20240326T134919Z
LAST-MODIFIED:20240326T134919Z
UID:1721-1713553200-1713564000@kcbiermeisters.com
SUMMARY:Monthly Meeting
DESCRIPTION:
URL:https://kcbiermeisters.com/calendar/monthly-meeting-2/
LOCATION:VFW 7397\, 9550 Pflumm Rd\, Lenexa\, KS\, 66215\, United States
END:VEVENT
BEGIN:VEVENT
DTSTART;TZID=America/Chicago:20240330T150000
DTEND;TZID=America/Chicago:20240330T180000
DTSTAMP:20260423T015515
CREATED:20240326T133907Z
LAST-MODIFIED:20240326T133907Z
UID:1715-1711810800-1711821600@kcbiermeisters.com
SUMMARY:March Social
DESCRIPTION:
URL:https://kcbiermeisters.com/calendar/march-social/
LOCATION:Diametric Brewing\, 949 NE Columbus\, Lee's Summit\, MO\, 64086\, United States
ORGANIZER;CN="Social Chair":MAILTO:myles.burkemper@gmail.com
END:VEVENT
BEGIN:VEVENT
DTSTART;VALUE=DATE:20240212
DTEND;VALUE=DATE:20240219
DTSTAMP:20260423T015515
CREATED:20231025T005607Z
LAST-MODIFIED:20231118T185947Z
UID:1646-1707696000-1708300799@kcbiermeisters.com
SUMMARY:Bier Meisters 41st Annual Competition
DESCRIPTION:
URL:https://kcbiermeisters.com/calendar/bier-meisters-41st-annual-competition/
END:VEVENT
BEGIN:VEVENT
DTSTART;TZID=America/Chicago:20240119T190000
DTEND;TZID=America/Chicago:20240119T220000
DTSTAMP:20260423T015515
CREATED:20231025T005349Z
LAST-MODIFIED:20231025T005349Z
UID:1644-1705690800-1705701600@kcbiermeisters.com
SUMMARY:January 2024 Meeting
DESCRIPTION:
URL:https://kcbiermeisters.com/calendar/january-2024-meeting/
LOCATION:VFW 7397\, 9550 Pflumm Rd\, Lenexa\, KS\, 66215\, United States
END:VEVENT
BEGIN:VEVENT
DTSTART;TZID=America/Chicago:20240113T180000
DTEND;TZID=America/Chicago:20240113T220000
DTSTAMP:20260423T015515
CREATED:20231114T151556Z
LAST-MODIFIED:20231114T151556Z
UID:1661-1705168800-1705183200@kcbiermeisters.com
SUMMARY:Social Bottle Share
DESCRIPTION:
URL:https://kcbiermeisters.com/calendar/social-bottle-share/
LOCATION:Butler’s House\, Olathe\, KS\, United States
END:VEVENT
BEGIN:VEVENT
DTSTART;TZID=America/Chicago:20231230T150000
DTEND;TZID=America/Chicago:20231230T173000
DTSTAMP:20260423T015515
CREATED:20231205T150451Z
LAST-MODIFIED:20231205T150451Z
UID:1693-1703948400-1703957400@kcbiermeisters.com
SUMMARY:December Social
DESCRIPTION:
URL:https://kcbiermeisters.com/calendar/december-social/
LOCATION:Torn Label Brewing\, 1708 Campbell St\, Kansas City\, MO\, 64108\, United States
ORGANIZER;CN="Social Chair":MAILTO:myles.burkemper@gmail.com
END:VEVENT
BEGIN:VEVENT
DTSTART;TZID=America/Chicago:20231215T183000
DTEND;TZID=America/Chicago:20231215T230000
DTSTAMP:20260423T015515
CREATED:20231024T204922Z
LAST-MODIFIED:20231024T204922Z
UID:1642-1702665000-1702681200@kcbiermeisters.com
SUMMARY:KCBM Holiday Party 2023
DESCRIPTION:
URL:https://kcbiermeisters.com/calendar/kcbm-holiday-party-2023/
LOCATION:VFW 7397\, 9550 Pflumm Rd\, Lenexa\, KS\, 66215\, United States
ORGANIZER;CN="Social Chair":MAILTO:myles.burkemper@gmail.com
END:VEVENT
BEGIN:VEVENT
DTSTART;TZID=America/Chicago:20231117T190000
DTEND;TZID=America/Chicago:20231117T220000
DTSTAMP:20260423T015515
CREATED:20231024T204805Z
LAST-MODIFIED:20231024T204805Z
UID:1640-1700247600-1700258400@kcbiermeisters.com
SUMMARY:November 2023 Meeting
DESCRIPTION:
URL:https://kcbiermeisters.com/calendar/november-2023-meeting/
LOCATION:VFW 7397\, 9550 Pflumm Rd\, Lenexa\, KS\, 66215\, United States
END:VEVENT
BEGIN:VEVENT
DTSTART;TZID=America/Chicago:20231029T150000
DTEND;TZID=America/Chicago:20231029T170000
DTSTAMP:20260423T015515
CREATED:20231023T205301Z
LAST-MODIFIED:20231028T200816Z
UID:1633-1698591600-1698598800@kcbiermeisters.com
SUMMARY:October Social Meet Up
DESCRIPTION:
URL:https://kcbiermeisters.com/calendar/october-social-meet-up/
LOCATION:Friction Beer Company\, 11018 Johnson Dr.\, Shawnee\, KS\, 66203\, United States
ORGANIZER;CN="Social Chair":MAILTO:myles.burkemper@gmail.com
END:VEVENT
BEGIN:VEVENT
DTSTART;TZID=America/Chicago:20231026T160000
DTEND;TZID=America/Chicago:20231026T200000
DTSTAMP:20260423T015515
CREATED:20231024T204612Z
LAST-MODIFIED:20231024T204612Z
UID:1638-1698336000-1698350400@kcbiermeisters.com
SUMMARY:Jared Teaney's Alma Mader Scale-Up
DESCRIPTION:
URL:https://kcbiermeisters.com/calendar/jared-teaneys-alma-mader-scale-up/
LOCATION:Alma Mader\, 2635 Southwest Blvd\,\, Kansas City\, Missouri\, 64108\, United States
ORGANIZER;CN="Social Chair":MAILTO:myles.burkemper@gmail.com
END:VEVENT
BEGIN:VEVENT
DTSTART;TZID=America/Chicago:20231020T183000
DTEND;TZID=America/Chicago:20231020T220000
DTSTAMP:20260423T015515
CREATED:20231015T202449Z
LAST-MODIFIED:20231015T202449Z
UID:1627-1697826600-1697839200@kcbiermeisters.com
SUMMARY:October Meeting 2023
DESCRIPTION:Join us Friday\, Oct. 20th for our monthly meeting at the VFW\, 9550 Pflumm Rd.\, Lenexa\, KS as Sam LaForte and Ryan Rose take you on a scary delicious journey of strange and exotic ingredients and tastings. Sam and Ryan will stretch your senses to the point you’ll think you’re in the upside down world. So keep your curiosity door unlocked and enjoy the ride\, cause friends don’t lie…at least not Sam and Ryan. \nFull Meeting Schedule (Friday\, Oct. 20th):\n6:30-7:00 Social Time\n7:00-7:45 Club Business\n7:45-8:00 Social Time\n8:00-9:00 Main Presentation – Stranger Grains with Sam LaForte & Ryan Rose\n9:00-10:00 Social Time / Homebrew Evaluations
URL:https://kcbiermeisters.com/calendar/october-meeting-2023/
LOCATION:VFW 7397\, 9550 Pflumm Rd\, Lenexa\, KS\, 66215\, United States
CATEGORIES:Club
ATTACH;FMTTYPE=image/jpeg:https://kcbiermeisters.com/wp-content/uploads/2023/10/StrangerGrains1.jpg
END:VEVENT
BEGIN:VEVENT
DTSTART;TZID=America/Chicago:20231014T160000
DTEND;TZID=America/Chicago:20231014T210000
DTSTAMP:20260423T015515
CREATED:20231015T201557Z
LAST-MODIFIED:20231015T201557Z
UID:1623-1697299200-1697317200@kcbiermeisters.com
SUMMARY:KCBM Oktoberfest 2023
DESCRIPTION:KC Bier Meisters Oktoberfest\n\n\nWhen: 10/14/2023\nWhere: Sar-Ko-Par Park in Lenexa at the Meadowlark Shelter.\nWhat to bring: A side or dessert to share and traditional German attire if you have any.
URL:https://kcbiermeisters.com/calendar/kcbm-oktoberfest-2023/
LOCATION:Sar-Ko-Par Park\, 87th St Parkway and Lackman Rd\, Lenexa\, 66215\, United States
CATEGORIES:Celebration
ATTACH;FMTTYPE=image/jpeg:https://kcbiermeisters.com/wp-content/uploads/2023/10/KCBMOktoberfest2023.jpg
END:VEVENT
BEGIN:VEVENT
DTSTART;TZID=America/Chicago:20230818T183000
DTEND;TZID=America/Chicago:20230818T220000
DTSTAMP:20260423T015515
CREATED:20230809T235520Z
LAST-MODIFIED:20230810T002953Z
UID:1609-1692383400-1692396000@kcbiermeisters.com
SUMMARY:August Meeting 2023
DESCRIPTION:AUGUST MEETING ANNOUNCEMENT!\n\nDrink ‘n Think\nJoin us for an extraordinary August meeting – a real treat and a unique sensory learning journey led by Elizabeth Belden and Amanda Burkemper!\nGet ready to train your palate like never before\, as Elizabeth and Amanda guide us through a tasting of varying concentrations of off-flavor spikes in three different types of beer. Discover how off flavors present differently at different levels and in various beers.\n\nDon’t miss out on this fantastic opportunity to indulge in a multi-layered training experience and deepen your understanding off-flavors.\n\nThis presentation is also approved for BJCP Continued Education Points!\n_____________________________________\nFull Meeting Schedule:\n\n6:30-7:00 Social Time\n7:00-7:45 Club Business\n7:45-8:00 Social Time\n8:00-9:00 Main Presentation – Drink ‘n Think!\n9:00-10:00 Social Time / Homebrew Evaluations\n\n_____________________________________\nHomebrew Evaluations:\nIf you have homebrew that you would like to have evaluated on a 1-on-1 basis by a BJCP judge at the meeting\, please bring an extra bottle or two to the meeting and ask Eric Martin or Jamye Buelke Naramore to pair you up with a BJCP judge to begin the evaluation process.\nIf you have homebrew that you would like evaluated by the group at the meeting\, please bring an extra growler (or at least 4 bottles) and track down Eric Martin or Jamye Buelke Naramore to work out the details. We typically do this anonymously at first\, and then the brewer will have the option to unveil or stay anonymous near the end of the process.\n_____________________________________\nPlease bring a six-pack or growler of your homebrewed (or commercial) beer/mead/cider to share!\n_____________________________________\nMembership\nIf you haven’t already done so… don’t forget to renew your membership: https://kcbiermeisters.com/join-the-club/
URL:https://kcbiermeisters.com/calendar/august-meeting-2023/
LOCATION:VFW 7397\, 9550 Pflumm Rd\, Lenexa\, KS\, 66215\, United States
CATEGORIES:Club,Meetings,Presentations,Special Event
ATTACH;FMTTYPE=image/jpeg:https://kcbiermeisters.com/wp-content/uploads/2023/08/Aug_mtg-2023-700-400.jpg
END:VEVENT
BEGIN:VEVENT
DTSTART;TZID=America/Chicago:20230727T170000
DTEND;TZID=America/Chicago:20230727T190000
DTSTAMP:20260423T015515
CREATED:20230711T232926Z
LAST-MODIFIED:20230711T233735Z
UID:1598-1690477200-1690484400@kcbiermeisters.com
SUMMARY:Helping Hops Nanobrew Fest
DESCRIPTION:Helping Hops is a nano-brewfest in support of Hope Lodge\, operated by the KC Chapter of the American Cancer Society. Individuals traveling to KC for cancer treatment and their caregivers can stay at Hope Lodge in the Quality Hill neighborhood near downtown for free. The event is organized by the VMLY&R Foundation. \nHELPING HOPS VOLUNTEER POURING  \nThere will be local brewers pouring their own beer\, cider\, mead\, or wine and we have room for a few more brewers. If interested in pouring\, please contact Candace Barnes candace.l.barnes@gmail.com ASAP. \nTickets:  can be purchased here: \nhttps://www.eventbrite.com/…/helping-hops-nanobrew-fest…
URL:https://kcbiermeisters.com/calendar/helping-hops-nanobrew-fest/
LOCATION:Crossroads Hotel\, 2101 Central Street\, Kansas City\, MO\, 64108\, United States
CATEGORIES:Festivals,Special Event
ATTACH;FMTTYPE=image/jpeg:https://kcbiermeisters.com/wp-content/uploads/2023/07/Help_Hops.jpg
END:VEVENT
BEGIN:VEVENT
DTSTART;TZID=America/Chicago:20230721T183000
DTEND;TZID=America/Chicago:20230721T220000
DTSTAMP:20260423T015515
CREATED:20230711T230355Z
LAST-MODIFIED:20230711T230355Z
UID:1593-1689964200-1689976800@kcbiermeisters.com
SUMMARY:July Meeting 2023
DESCRIPTION:JULY MEETING ANNOUNCEMENT\nPlease join us on Friday\, July 21 at the VFW Post 7397 in Lenexa for our monthly meeting where we will have a Bottling Bonanza and dive into the art and science of packaging with NHC award-winning brewers Mike and Stephanie Butler. Stephanie and Mike will host an interactive session and share tips and techniques on the process of packaging your fermented creations. By the end of their presentation\, you will be packaging your hootch more efficiently than Amazon on Prime Day! \nThis will be an interactive presentation so if you haven’t done so yet\, please complete the linked survey prior to the presentation:  July 2023 MTG Survey\n\n_____________________________________\n\nFull Meeting Schedule (Friday\, July 21st):\n\n6:30-7:00 Social Time\n7:00-7:45 Club Business\n7:45-8:00 Social Time\n8:00-9:00 Main Presentation – Bottling Bonanza!\n9:00-10:00 Social Time / Homebrew Evaluations\n\n_____________________________________\n\n\n\nHomebrew Evaluations:\nIf you have homebrew that you would like to have evaluated on a 1-on-1 basis by a BJCP judge at the meeting\, please bring an extra bottle or two to the meeting and ask Eric Martin or Jamye Buelke Naramore to pair you up with a BJCP judge to begin the evaluation process.\n\nIf you have homebrew that you would like evaluated by the group at the meeting\, please bring an extra growler (or at least 4 bottles) and track down Eric Martin or Jamye Buelke Naramore to work out the details. We typically do this anonymously at first\, and then the brewer will have the option to unveil or stay anonymous near the end of the process.\n_____________________________________\nPlease bring a six-pack or growler of your homebrewed (or commercial) beer/mead/cider to share!\n_____________________________________\nMembership\nIf you haven’t already done so… don’t forget to renew your membership: https://kcbiermeisters.com/join-the-club/
URL:https://kcbiermeisters.com/calendar/july-meeting-2023/
LOCATION:VFW 7397\, 9550 Pflumm Rd\, Lenexa\, KS\, 66215\, United States
CATEGORIES:Club,Meetings,Presentations
ATTACH;FMTTYPE=image/jpeg:https://kcbiermeisters.com/wp-content/uploads/2023/07/July_mtg-2023_base-1.jpg
END:VEVENT
END:VCALENDAR