BEGIN:VCALENDAR
VERSION:2.0
PRODID:-//KC Bier Meisters - ECPv6.15.20//NONSGML v1.0//EN
CALSCALE:GREGORIAN
METHOD:PUBLISH
X-ORIGINAL-URL:https://kcbiermeisters.com
X-WR-CALDESC:Events for KC Bier Meisters
REFRESH-INTERVAL;VALUE=DURATION:PT1H
X-Robots-Tag:noindex
X-PUBLISHED-TTL:PT1H
BEGIN:VTIMEZONE
TZID:America/Chicago
BEGIN:DAYLIGHT
TZOFFSETFROM:-0600
TZOFFSETTO:-0500
TZNAME:CDT
DTSTART:20180311T080000
END:DAYLIGHT
BEGIN:STANDARD
TZOFFSETFROM:-0500
TZOFFSETTO:-0600
TZNAME:CST
DTSTART:20181104T070000
END:STANDARD
BEGIN:DAYLIGHT
TZOFFSETFROM:-0600
TZOFFSETTO:-0500
TZNAME:CDT
DTSTART:20190310T080000
END:DAYLIGHT
BEGIN:STANDARD
TZOFFSETFROM:-0500
TZOFFSETTO:-0600
TZNAME:CST
DTSTART:20191103T070000
END:STANDARD
BEGIN:DAYLIGHT
TZOFFSETFROM:-0600
TZOFFSETTO:-0500
TZNAME:CDT
DTSTART:20200308T080000
END:DAYLIGHT
BEGIN:STANDARD
TZOFFSETFROM:-0500
TZOFFSETTO:-0600
TZNAME:CST
DTSTART:20201101T070000
END:STANDARD
BEGIN:DAYLIGHT
TZOFFSETFROM:-0600
TZOFFSETTO:-0500
TZNAME:CDT
DTSTART:20210314T080000
END:DAYLIGHT
BEGIN:STANDARD
TZOFFSETFROM:-0500
TZOFFSETTO:-0600
TZNAME:CST
DTSTART:20211107T070000
END:STANDARD
END:VTIMEZONE
BEGIN:VEVENT
DTSTART;TZID=America/Chicago:20200619T190000
DTEND;TZID=America/Chicago:20200619T210000
DTSTAMP:20260423T100853
CREATED:20200609T015620Z
LAST-MODIFIED:20200626T221450Z
UID:689-1592593200-1592600400@kcbiermeisters.com
SUMMARY:Meeting/Special Event: Chris White
DESCRIPTION:CHRIS WHITE (President\, CEO\, and Founder of White Labs)\nwill join the June KCBM Club Meeting Live via Zoom to discuss\nyeast- from the basics to advanced topics.\n—————————————-\n  \n  \nJoin Zoom Meeting\nhttps://us02web.zoom.us/j/86751827429?pwd=TGViUlZmMXVoZmxwb0dad1BXSTdMQT09 \nMeeting ID: 867 5182 7429\nPassword: 395122 \n  \nMeeting starts at 7:00 on Friday\, June 19  \n7:00-7:30           Social Time \n7:30-7:45           Club Business \n7:45-8:00           Commercial Beer Evaluation \nDrink along with our BJCP Grand Master and National Judges as they taste and evaluate City Barrel’s Rad AF.\nPick yourself up a six pack or two of this NEIPA\, and test your taste buds against our experts! \n8:00-9:00           Chris White:  The Homebrewer’s Practical Guide to Yeast \n  \nAS A REMINDER – JUNE IS MEMBERSHIP MONTH.  PLEASE JOIN/RENEW YOUR KCBM MEMBERSHIP:  https://kcbiermeisters.com/join-the-club/. \nKCBM remains committed to our objective (develop the appreciation of homebrew and commercial craft beer and to promote knowledge of the various arts of brewing) and needs YOUR SUPPORT to keep us moving forward!
URL:https://kcbiermeisters.com/calendar/special-event-meeting-chris-white/
CATEGORIES:Club,Meetings,Special Event
ATTACH;FMTTYPE=image/jpeg:https://kcbiermeisters.com/wp-content/uploads/2020/06/Chris-White-700x441-a.jpg
END:VEVENT
BEGIN:VEVENT
DTSTART;TZID=America/Chicago:20200602T193000
DTEND;TZID=America/Chicago:20200602T223000
DTSTAMP:20260423T100853
CREATED:20200525T050048Z
LAST-MODIFIED:20200626T222042Z
UID:521-1591126200-1591137000@kcbiermeisters.com
SUMMARY:Special Event: Stan Hieronymus
DESCRIPTION:We are very excited to welcome Stan Hieronymus on June 2nd for a special presentation. Hope you will join! \n  \nStan is the author of: \n“For The Love Of Hops”\n“Brew Like A Monk”\n“Brewing With Wheat”\n“Brewing Local”\n“The Brewpub Cookbook”\n“The Beer Lover’s Guide To The USA” \nLook for Stan’s books at: www.brewerspublications.com \nJoin Zoom Meeting\nMeeting ID: 862 2479 4707\nPassword: 562340\nOne tap mobile\n+13126266799\,\,86224794707#\,\,1#\,562340# US (Chicago)\n+16465588656\,\,86224794707#\,\,1#\,562340# US (New York)
URL:https://kcbiermeisters.com/calendar/special-event-stan-hieronymus/
CATEGORIES:Special Event
ATTACH;FMTTYPE=image/jpeg:https://kcbiermeisters.com/wp-content/uploads/2020/06/StanHieronymus-700x441-1.jpg
END:VEVENT
BEGIN:VEVENT
DTSTART;TZID=America/Chicago:20200515T190000
DTEND;TZID=America/Chicago:20200515T220000
DTSTAMP:20260423T100853
CREATED:20200501T170017Z
LAST-MODIFIED:20200626T221733Z
UID:559-1589569200-1589580000@kcbiermeisters.com
SUMMARY:Special Event: John Palmer
DESCRIPTION:KCBM is very pleased to announce that JOHN PALMER will be the featured speaker for our monthly meeting on Friday\, May 15. He will be presenting Putting Brewing Water Into Perspective. Hope you will join! \n  \nJohn is the author of: \n“How to Brew”\n“Water”\n“Brewing Classic Styles”\nLook for John’s books at: www.brewerspublications.com
URL:https://kcbiermeisters.com/calendar/special-event-john-palmer/
CATEGORIES:Special Event
ATTACH;FMTTYPE=image/jpeg:https://kcbiermeisters.com/wp-content/uploads/2020/05/JohnPalmer-SM-e1591399610957.jpg
END:VEVENT
BEGIN:VEVENT
DTSTART;TZID=America/Chicago:20190714T120000
DTEND;TZID=America/Chicago:20190714T160000
DTSTAMP:20260423T100853
CREATED:20190711T192011Z
LAST-MODIFIED:20200527T113455Z
UID:434-1563105600-1563120000@kcbiermeisters.com
SUMMARY:Homebrewing Expo
DESCRIPTION:Inaugural Crane Brewing Homebrew Day. This will showcase all of the clubs in the area as well as for-sale homebrewing equipment and more!
URL:https://kcbiermeisters.com/calendar/homebrewing-expo/
LOCATION:Crane Brewing\, 6515 Railroad st\, Raytown\, MO\, 64113\, United States
CATEGORIES:Special Event
END:VEVENT
END:VCALENDAR