BEGIN:VCALENDAR
VERSION:2.0
PRODID:-//KC Bier Meisters - ECPv6.15.20//NONSGML v1.0//EN
CALSCALE:GREGORIAN
METHOD:PUBLISH
X-ORIGINAL-URL:https://kcbiermeisters.com
X-WR-CALDESC:Events for KC Bier Meisters
REFRESH-INTERVAL;VALUE=DURATION:PT1H
X-Robots-Tag:noindex
X-PUBLISHED-TTL:PT1H
BEGIN:VTIMEZONE
TZID:America/Chicago
BEGIN:DAYLIGHT
TZOFFSETFROM:-0600
TZOFFSETTO:-0500
TZNAME:CDT
DTSTART:20170312T080000
END:DAYLIGHT
BEGIN:STANDARD
TZOFFSETFROM:-0500
TZOFFSETTO:-0600
TZNAME:CST
DTSTART:20171105T070000
END:STANDARD
BEGIN:DAYLIGHT
TZOFFSETFROM:-0600
TZOFFSETTO:-0500
TZNAME:CDT
DTSTART:20180311T080000
END:DAYLIGHT
BEGIN:STANDARD
TZOFFSETFROM:-0500
TZOFFSETTO:-0600
TZNAME:CST
DTSTART:20181104T070000
END:STANDARD
BEGIN:DAYLIGHT
TZOFFSETFROM:-0600
TZOFFSETTO:-0500
TZNAME:CDT
DTSTART:20190310T080000
END:DAYLIGHT
BEGIN:STANDARD
TZOFFSETFROM:-0500
TZOFFSETTO:-0600
TZNAME:CST
DTSTART:20191103T070000
END:STANDARD
BEGIN:DAYLIGHT
TZOFFSETFROM:-0600
TZOFFSETTO:-0500
TZNAME:CDT
DTSTART:20200308T080000
END:DAYLIGHT
BEGIN:STANDARD
TZOFFSETFROM:-0500
TZOFFSETTO:-0600
TZNAME:CST
DTSTART:20201101T070000
END:STANDARD
BEGIN:DAYLIGHT
TZOFFSETFROM:-0600
TZOFFSETTO:-0500
TZNAME:CDT
DTSTART:20210314T080000
END:DAYLIGHT
BEGIN:STANDARD
TZOFFSETFROM:-0500
TZOFFSETTO:-0600
TZNAME:CST
DTSTART:20211107T070000
END:STANDARD
BEGIN:DAYLIGHT
TZOFFSETFROM:-0600
TZOFFSETTO:-0500
TZNAME:CDT
DTSTART:20220313T080000
END:DAYLIGHT
BEGIN:STANDARD
TZOFFSETFROM:-0500
TZOFFSETTO:-0600
TZNAME:CST
DTSTART:20221106T070000
END:STANDARD
BEGIN:DAYLIGHT
TZOFFSETFROM:-0600
TZOFFSETTO:-0500
TZNAME:CDT
DTSTART:20230312T080000
END:DAYLIGHT
BEGIN:STANDARD
TZOFFSETFROM:-0500
TZOFFSETTO:-0600
TZNAME:CST
DTSTART:20231105T070000
END:STANDARD
BEGIN:DAYLIGHT
TZOFFSETFROM:-0600
TZOFFSETTO:-0500
TZNAME:CDT
DTSTART:20240310T080000
END:DAYLIGHT
BEGIN:STANDARD
TZOFFSETFROM:-0500
TZOFFSETTO:-0600
TZNAME:CST
DTSTART:20241103T070000
END:STANDARD
BEGIN:DAYLIGHT
TZOFFSETFROM:-0600
TZOFFSETTO:-0500
TZNAME:CDT
DTSTART:20250309T080000
END:DAYLIGHT
BEGIN:STANDARD
TZOFFSETFROM:-0500
TZOFFSETTO:-0600
TZNAME:CST
DTSTART:20251102T070000
END:STANDARD
BEGIN:DAYLIGHT
TZOFFSETFROM:-0600
TZOFFSETTO:-0500
TZNAME:CDT
DTSTART:20260308T080000
END:DAYLIGHT
BEGIN:STANDARD
TZOFFSETFROM:-0500
TZOFFSETTO:-0600
TZNAME:CST
DTSTART:20261101T070000
END:STANDARD
END:VTIMEZONE
BEGIN:VEVENT
DTSTART;TZID=America/Chicago:20251206T160000
DTEND;TZID=America/Chicago:20251206T180000
DTSTAMP:20260423T051545
CREATED:20251125T033010Z
LAST-MODIFIED:20251125T033254Z
UID:2079-1765036800-1765044000@kcbiermeisters.com
SUMMARY:December Social
DESCRIPTION:December Monthly Social\n\n\nSaturday\, December 6th at 4:00 PM\n\n\nAlma Mader\n\n\nJoin us at Alma Mader for our last club social of 2025!
URL:https://kcbiermeisters.com/calendar/december-social-2/
LOCATION:Alma Mader\, 2635 Southwest Blvd\,\, Kansas City\, Missouri\, 64108\, United States
CATEGORIES:Social
ORGANIZER;CN="Social Chair":MAILTO:myles.burkemper@gmail.com
END:VEVENT
BEGIN:VEVENT
DTSTART;TZID=America/Chicago:20230708T173000
DTEND;TZID=America/Chicago:20230708T220000
DTSTAMP:20260423T051545
CREATED:20230628T195825Z
LAST-MODIFIED:20230628T195825Z
UID:1581-1688837400-1688853600@kcbiermeisters.com
SUMMARY:NHC Homebrew Club of the Year Celebration
DESCRIPTION:Kansas City Bier Meisters!! \nYes\, the Back-to-Back NHC Homebrew Club of the Year Bier Meisters (2022 & 2023) \nGrab your dancing shoes because we are gonna celebrate winning the NHC Homebrew Club of the Year for the second year in a row! Hope to see you on Sat.\, July 8 at 5:30 pm at KC Bier Company. https://fb.me/e/LjvKn5bS \nProst!\nKCBM Board of Directors
URL:https://kcbiermeisters.com/calendar/nhc-homebrew-club-of-the-year-celebration/
LOCATION:KC Bier Co\, 310 W 79th St\, Kansas City\, MO\, 64114\, United States
CATEGORIES:Celebration,Social,Special Event
ATTACH;FMTTYPE=image/jpeg:https://kcbiermeisters.com/wp-content/uploads/2023/06/NHC_2023_700x400.jpg
END:VEVENT
BEGIN:VEVENT
DTSTART;TZID=America/Chicago:20230506T103000
DTEND;TZID=America/Chicago:20230506T123000
DTSTAMP:20260423T051545
CREATED:20230316T010033Z
LAST-MODIFIED:20230316T010033Z
UID:1544-1683369000-1683376200@kcbiermeisters.com
SUMMARY:Harvesters Repack Day 2023
DESCRIPTION:Harvesters Repack Day Saturday\, May 6 10:30-12:30 \n–Candace Barnes\, our community outreach coordinator\, has set up a packing day with Harvesters. We will spend the morning repacking food donations at the Harvesters Warehouse and then will head to the Crossroads for some tasty beer in the afternoon. Thanks Candace for planning! \nwww.harvesters.org/ \n3801 Topping Avenue\nKansas City\, MO 64129\n816.929.3000 \nChief Executive: Stephen Davis\nMedia Contact: Sarah Biles
URL:https://kcbiermeisters.com/calendar/harvesters-repack-day-2023/
LOCATION:Harvesters\, 3801 Topping Ave\, Kansas City\, MO\, 64129\, United States
CATEGORIES:Social
ATTACH;FMTTYPE=image/png:https://kcbiermeisters.com/wp-content/uploads/2023/03/Harvesters_Logo_Color.png
END:VEVENT
BEGIN:VEVENT
DTSTART;TZID=America/Chicago:20201212T070000
DTEND;TZID=America/Chicago:20201212T220000
DTSTAMP:20260423T051545
CREATED:20201123T231724Z
LAST-MODIFIED:20201207T224942Z
UID:1104-1607756400-1607810400@kcbiermeisters.com
SUMMARY:December 2020 Holiday Social...
DESCRIPTION:KCBM Virtual Holiday Social will be Saturday\, December 12 at 7PM!\nKCBM is very excited about our upcoming Virtual Holiday Social! We are hoping that you will join in the holiday fun and spend a high-spirited evening with your KCBM friends! Please dress your virtual holiday best – there might just be a special prize for the Merriest Meister!\nBig thanks to everyone who signed up for the Holiday Bottle Exchange! We have gotten the list (checked it twice) and paired up our participants! Our pairings are: \n-Dann Searcy and Patrick Brown\n-Eric Martin and Richard Cartwright\n-Logan Beets and Julia Pitt\n-Jason Elder and Rodolfo E Valladares\n-Mike Butler and Amanda Burkemper\n-Stephanie Butler and Jamye Buelke Naramore (and Cody)\n-Myles Burkemper and Jay Highfill\n-Shane Kammerer and Mike Kalny\n(Bottle exchange participants -please check your emails for a message with additional information.)\nHoping to see you all soon for some festive fun!\nZoom Information:\nTopic: KCBM Holiday Zoom Social\nTime: Dec 12\, 2020 07:00 PM Central Time (US and Canada) \nJoin Zoom Meeting\nhttps://us02web.zoom.us/j/81028971207… \nMeeting ID: 810 2897 1207\nPasscode: 710284
URL:https://kcbiermeisters.com/calendar/december-2020-holiday-social/
CATEGORIES:Social
ATTACH;FMTTYPE=image/jpeg:https://kcbiermeisters.com/wp-content/uploads/2020/11/2020HolidaySocial-400x300-1.jpg
END:VEVENT
BEGIN:VEVENT
DTSTART;TZID=America/Chicago:20190409T190000
DTEND;TZID=America/Chicago:20190409T220000
DTSTAMP:20260423T051545
CREATED:20190311T181729Z
LAST-MODIFIED:20200527T113608Z
UID:382-1554836400-1554847200@kcbiermeisters.com
SUMMARY:KCBM Social Night
DESCRIPTION:Location TBD
URL:https://kcbiermeisters.com/calendar/kcbm-social-night-2/
CATEGORIES:Social
END:VEVENT
BEGIN:VEVENT
DTSTART;TZID=America/Chicago:20181009T190000
DTEND;TZID=America/Chicago:20181009T210000
DTSTAMP:20260423T051545
CREATED:20181009T193428Z
LAST-MODIFIED:20200527T113701Z
UID:312-1539111600-1539118800@kcbiermeisters.com
SUMMARY:KCBM Social Hour
DESCRIPTION:Getting together for a few beers at KC Bier Co. Come on out and join us!
URL:https://kcbiermeisters.com/calendar/kcbm-social-hour/
CATEGORIES:Social
END:VEVENT
BEGIN:VEVENT
DTSTART;TZID=America/Chicago:20180911T193000
DTEND;TZID=America/Chicago:20180911T213000
DTSTAMP:20260423T051545
CREATED:20180910T185153Z
LAST-MODIFIED:20200527T113638Z
UID:304-1536694200-1536701400@kcbiermeisters.com
SUMMARY:KCBM Social Night - Sept
DESCRIPTION:
URL:https://kcbiermeisters.com/calendar/kcbm-social-night-sept/
LOCATION:Bier Station\, 120 E. Gregory Boulevard\, Kansas City\, MO\, 64114\, United States
CATEGORIES:Social
END:VEVENT
END:VCALENDAR