BEGIN:VCALENDAR
VERSION:2.0
PRODID:-//KC Bier Meisters - ECPv6.15.20//NONSGML v1.0//EN
CALSCALE:GREGORIAN
METHOD:PUBLISH
X-ORIGINAL-URL:https://kcbiermeisters.com
X-WR-CALDESC:Events for KC Bier Meisters
REFRESH-INTERVAL;VALUE=DURATION:PT1H
X-Robots-Tag:noindex
X-PUBLISHED-TTL:PT1H
BEGIN:VTIMEZONE
TZID:America/Chicago
BEGIN:DAYLIGHT
TZOFFSETFROM:-0600
TZOFFSETTO:-0500
TZNAME:CDT
DTSTART:20170312T080000
END:DAYLIGHT
BEGIN:STANDARD
TZOFFSETFROM:-0500
TZOFFSETTO:-0600
TZNAME:CST
DTSTART:20171105T070000
END:STANDARD
BEGIN:DAYLIGHT
TZOFFSETFROM:-0600
TZOFFSETTO:-0500
TZNAME:CDT
DTSTART:20180311T080000
END:DAYLIGHT
BEGIN:STANDARD
TZOFFSETFROM:-0500
TZOFFSETTO:-0600
TZNAME:CST
DTSTART:20181104T070000
END:STANDARD
BEGIN:DAYLIGHT
TZOFFSETFROM:-0600
TZOFFSETTO:-0500
TZNAME:CDT
DTSTART:20190310T080000
END:DAYLIGHT
BEGIN:STANDARD
TZOFFSETFROM:-0500
TZOFFSETTO:-0600
TZNAME:CST
DTSTART:20191103T070000
END:STANDARD
BEGIN:DAYLIGHT
TZOFFSETFROM:-0600
TZOFFSETTO:-0500
TZNAME:CDT
DTSTART:20200308T080000
END:DAYLIGHT
BEGIN:STANDARD
TZOFFSETFROM:-0500
TZOFFSETTO:-0600
TZNAME:CST
DTSTART:20201101T070000
END:STANDARD
BEGIN:DAYLIGHT
TZOFFSETFROM:-0600
TZOFFSETTO:-0500
TZNAME:CDT
DTSTART:20210314T080000
END:DAYLIGHT
BEGIN:STANDARD
TZOFFSETFROM:-0500
TZOFFSETTO:-0600
TZNAME:CST
DTSTART:20211107T070000
END:STANDARD
BEGIN:DAYLIGHT
TZOFFSETFROM:-0600
TZOFFSETTO:-0500
TZNAME:CDT
DTSTART:20220313T080000
END:DAYLIGHT
BEGIN:STANDARD
TZOFFSETFROM:-0500
TZOFFSETTO:-0600
TZNAME:CST
DTSTART:20221106T070000
END:STANDARD
BEGIN:DAYLIGHT
TZOFFSETFROM:-0600
TZOFFSETTO:-0500
TZNAME:CDT
DTSTART:20230312T080000
END:DAYLIGHT
BEGIN:STANDARD
TZOFFSETFROM:-0500
TZOFFSETTO:-0600
TZNAME:CST
DTSTART:20231105T070000
END:STANDARD
BEGIN:DAYLIGHT
TZOFFSETFROM:-0600
TZOFFSETTO:-0500
TZNAME:CDT
DTSTART:20240310T080000
END:DAYLIGHT
BEGIN:STANDARD
TZOFFSETFROM:-0500
TZOFFSETTO:-0600
TZNAME:CST
DTSTART:20241103T070000
END:STANDARD
BEGIN:DAYLIGHT
TZOFFSETFROM:-0600
TZOFFSETTO:-0500
TZNAME:CDT
DTSTART:20250309T080000
END:DAYLIGHT
BEGIN:STANDARD
TZOFFSETFROM:-0500
TZOFFSETTO:-0600
TZNAME:CST
DTSTART:20251102T070000
END:STANDARD
BEGIN:DAYLIGHT
TZOFFSETFROM:-0600
TZOFFSETTO:-0500
TZNAME:CDT
DTSTART:20260308T080000
END:DAYLIGHT
BEGIN:STANDARD
TZOFFSETFROM:-0500
TZOFFSETTO:-0600
TZNAME:CST
DTSTART:20261101T070000
END:STANDARD
END:VTIMEZONE
BEGIN:VEVENT
DTSTART;TZID=America/Chicago:20251201T190000
DTEND;TZID=America/Chicago:20251201T230000
DTSTAMP:20260423T051754
CREATED:20251125T033635Z
LAST-MODIFIED:20251125T034334Z
UID:2083-1764615600-1764630000@kcbiermeisters.com
SUMMARY:KCBM 43 Entry Registration Opens
DESCRIPTION:KCBM 43 opens for entry registration on 12/1 at 7pm CST. Make sure to set a calendar reminder and get your entries in! Brewers are limited to 6 entries. Scale Ups and category 62A entries will not count towards your per brewer total.\n\n\n\nThis year we will have a specialty category 43A – Saturday Night Pints. These beers will embody everything New York City!\n62A- Saturday Night Pints Style GuidelinesWe will also be offering scale up opportunities with the following Kansas City Breweries!KC Bier Co.\nStrange Days\nTransport\nDiscourse \nThe Saturday Night Pints and Scale Up categories will not count towards your total entry limit. More information for these specialty categories and the competition as a whole is available on the competition site linked below. \nStart planning your beers and your banquet costumes now! \n\n\n\n\n\nhttps://brewingcompetitions.com/kcbm/\n\n\n\n\n\nFollow the Kansas City Bier Meisters Annual Competition facebook page for the latest updates and info!
URL:https://kcbiermeisters.com/calendar/kcbm-entry-registration-opens/
CATEGORIES:Competition
END:VEVENT
BEGIN:VEVENT
DTSTART;VALUE=DATE:20230417
DTEND;VALUE=DATE:20230423
DTSTAMP:20260423T051754
CREATED:20230316T010834Z
LAST-MODIFIED:20230316T011105Z
UID:1551-1681689600-1682207999@kcbiermeisters.com
SUMMARY:2023 NHC First Round Kansas City
DESCRIPTION:–Jason Elder is coordinating first round NHC this year. Judging will be the week of April 17. Please be on the lookout for information from Jason about how you can help out! \nhttps://www.homebrewersassociation.org/national-homebrew-competition/ \nhttps://www.homebrewersassociation.org/national-homebrew-competition/dates-deadlines/
URL:https://kcbiermeisters.com/calendar/2023-nhc-first-round-kansas-city/
CATEGORIES:Competition,Meetings,Special Event
END:VEVENT
BEGIN:VEVENT
DTSTART;TZID=America/Chicago:20230205T090000
DTEND;TZID=America/Chicago:20230205T130000
DTSTAMP:20260423T051754
CREATED:20230113T013006Z
LAST-MODIFIED:20230113T013006Z
UID:1510-1675587600-1675602000@kcbiermeisters.com
SUMMARY:KCBM 40 Bottle Sort
DESCRIPTION:Volunteers are needed to sort bottles at KC Bier Company on Feb. 5th from 9AM to 1 PM in preparation for our KCBM 40 competition. Please contact Mike Butler at mjbutler72@gmail.com if you can help volunteer on sorting day. \nWe also need additional stewards and judges during the week of the competition. Please sign up on the KCBM 40 competition site KCBM 40th Annual Homebrew Competition.
URL:https://kcbiermeisters.com/calendar/kcbm-40-bottle-sort/
LOCATION:KC Bier Co\, 310 W 79th St\, Kansas City\, MO\, 64114\, United States
CATEGORIES:Competition
END:VEVENT
BEGIN:VEVENT
DTSTART;TZID=America/Chicago:20181011T190000
DTEND;TZID=America/Chicago:20181011T200000
DTSTAMP:20260423T051754
CREATED:20181009T194637Z
LAST-MODIFIED:20200527T114428Z
UID:314-1539284400-1539288000@kcbiermeisters.com
SUMMARY:KCBM Comp Meeting
DESCRIPTION:Comp meeting to begin planning of KCBM annual competition
URL:https://kcbiermeisters.com/calendar/kcbm-comp-meeting/
LOCATION:Bier Station\, 120 E. Gregory Boulevard\, Kansas City\, MO\, 64114\, United States
CATEGORIES:Competition,Meetings
END:VEVENT
END:VCALENDAR