BEGIN:VCALENDAR
VERSION:2.0
PRODID:-//KC Bier Meisters - ECPv6.15.20//NONSGML v1.0//EN
CALSCALE:GREGORIAN
METHOD:PUBLISH
X-ORIGINAL-URL:https://kcbiermeisters.com
X-WR-CALDESC:Events for KC Bier Meisters
REFRESH-INTERVAL;VALUE=DURATION:PT1H
X-Robots-Tag:noindex
X-PUBLISHED-TTL:PT1H
BEGIN:VTIMEZONE
TZID:America/Chicago
BEGIN:DAYLIGHT
TZOFFSETFROM:-0600
TZOFFSETTO:-0500
TZNAME:CDT
DTSTART:20180311T080000
END:DAYLIGHT
BEGIN:STANDARD
TZOFFSETFROM:-0500
TZOFFSETTO:-0600
TZNAME:CST
DTSTART:20181104T070000
END:STANDARD
BEGIN:DAYLIGHT
TZOFFSETFROM:-0600
TZOFFSETTO:-0500
TZNAME:CDT
DTSTART:20190310T080000
END:DAYLIGHT
BEGIN:STANDARD
TZOFFSETFROM:-0500
TZOFFSETTO:-0600
TZNAME:CST
DTSTART:20191103T070000
END:STANDARD
BEGIN:DAYLIGHT
TZOFFSETFROM:-0600
TZOFFSETTO:-0500
TZNAME:CDT
DTSTART:20200308T080000
END:DAYLIGHT
BEGIN:STANDARD
TZOFFSETFROM:-0500
TZOFFSETTO:-0600
TZNAME:CST
DTSTART:20201101T070000
END:STANDARD
BEGIN:DAYLIGHT
TZOFFSETFROM:-0600
TZOFFSETTO:-0500
TZNAME:CDT
DTSTART:20210314T080000
END:DAYLIGHT
BEGIN:STANDARD
TZOFFSETFROM:-0500
TZOFFSETTO:-0600
TZNAME:CST
DTSTART:20211107T070000
END:STANDARD
BEGIN:DAYLIGHT
TZOFFSETFROM:-0600
TZOFFSETTO:-0500
TZNAME:CDT
DTSTART:20220313T080000
END:DAYLIGHT
BEGIN:STANDARD
TZOFFSETFROM:-0500
TZOFFSETTO:-0600
TZNAME:CST
DTSTART:20221106T070000
END:STANDARD
BEGIN:DAYLIGHT
TZOFFSETFROM:-0600
TZOFFSETTO:-0500
TZNAME:CDT
DTSTART:20230312T080000
END:DAYLIGHT
BEGIN:STANDARD
TZOFFSETFROM:-0500
TZOFFSETTO:-0600
TZNAME:CST
DTSTART:20231105T070000
END:STANDARD
BEGIN:DAYLIGHT
TZOFFSETFROM:-0600
TZOFFSETTO:-0500
TZNAME:CDT
DTSTART:20240310T080000
END:DAYLIGHT
BEGIN:STANDARD
TZOFFSETFROM:-0500
TZOFFSETTO:-0600
TZNAME:CST
DTSTART:20241103T070000
END:STANDARD
END:VTIMEZONE
BEGIN:VEVENT
DTSTART;TZID=America/Chicago:20230727T170000
DTEND;TZID=America/Chicago:20230727T190000
DTSTAMP:20260423T112241
CREATED:20230711T232926Z
LAST-MODIFIED:20230711T233735Z
UID:1598-1690477200-1690484400@kcbiermeisters.com
SUMMARY:Helping Hops Nanobrew Fest
DESCRIPTION:Helping Hops is a nano-brewfest in support of Hope Lodge\, operated by the KC Chapter of the American Cancer Society. Individuals traveling to KC for cancer treatment and their caregivers can stay at Hope Lodge in the Quality Hill neighborhood near downtown for free. The event is organized by the VMLY&R Foundation. \nHELPING HOPS VOLUNTEER POURING  \nThere will be local brewers pouring their own beer\, cider\, mead\, or wine and we have room for a few more brewers. If interested in pouring\, please contact Candace Barnes candace.l.barnes@gmail.com ASAP. \nTickets:  can be purchased here: \nhttps://www.eventbrite.com/…/helping-hops-nanobrew-fest…
URL:https://kcbiermeisters.com/calendar/helping-hops-nanobrew-fest/
LOCATION:Crossroads Hotel\, 2101 Central Street\, Kansas City\, MO\, 64108\, United States
CATEGORIES:Festivals,Special Event
ATTACH;FMTTYPE=image/jpeg:https://kcbiermeisters.com/wp-content/uploads/2023/07/Help_Hops.jpg
END:VEVENT
BEGIN:VEVENT
DTSTART;TZID=America/Chicago:20211016T130000
DTEND;TZID=America/Chicago:20211016T170000
DTSTAMP:20260423T112241
CREATED:20210811T014328Z
LAST-MODIFIED:20211014T162608Z
UID:1251-1634389200-1634403600@kcbiermeisters.com
SUMMARY:Parkville Brewfest
DESCRIPTION:https://www.parkvillemicrobrewfest.com/
URL:https://kcbiermeisters.com/calendar/parkville-brewfest/
LOCATION:Parkville Brewfest @ English Landing Park\, 8701 McAfee St\, Parkville\, 64152\, United States
CATEGORIES:Festivals
ATTACH;FMTTYPE=image/jpeg:https://kcbiermeisters.com/wp-content/uploads/2021/08/ParkvilleBrewfest-700x441-1.jpg
END:VEVENT
BEGIN:VEVENT
DTSTART;TZID=America/Chicago:20211002T110000
DTEND;TZID=America/Chicago:20211002T230000
DTSTAMP:20260423T112241
CREATED:20210811T013552Z
LAST-MODIFIED:20210811T015132Z
UID:1248-1633172400-1633215600@kcbiermeisters.com
SUMMARY:KC Oktoberfest 2021 - KC Bier Company
DESCRIPTION:https://kcoktoberfest.com/
URL:https://kcbiermeisters.com/calendar/kc-oktoberfest-2021-kc-bier-company-2/
LOCATION:Oktoberfest @ Crown Center\, 2450 Grand Boulevard\, Kansas City\, 64108\, United States
CATEGORIES:Festivals
ATTACH;FMTTYPE=image/jpeg:https://kcbiermeisters.com/wp-content/uploads/2021/08/KC_OktoberfestBadge_2021_NoColorCode-700x441-1.jpg
END:VEVENT
BEGIN:VEVENT
DTSTART;TZID=America/Chicago:20211001T170000
DTEND;TZID=America/Chicago:20211001T230000
DTSTAMP:20260423T112241
CREATED:20210811T013225Z
LAST-MODIFIED:20210811T015208Z
UID:1244-1633107600-1633129200@kcbiermeisters.com
SUMMARY:KC Oktoberfest 2021 - KC Bier Company
DESCRIPTION:https://kcoktoberfest.com/
URL:https://kcbiermeisters.com/calendar/kc-oktoberfest-2021-kc-bier-company/
LOCATION:Oktoberfest @ Crown Center\, 2450 Grand Boulevard\, Kansas City\, 64108\, United States
CATEGORIES:Festivals
ATTACH;FMTTYPE=image/jpeg:https://kcbiermeisters.com/wp-content/uploads/2021/08/KC_OktoberfestBadge_2021_NoColorCode-700x441-2.jpg
END:VEVENT
BEGIN:VEVENT
DTSTART;TZID=America/Chicago:20190427T100000
DTEND;TZID=America/Chicago:20190427T170000
DTSTAMP:20260423T112241
CREATED:20190311T184448Z
LAST-MODIFIED:20200527T114303Z
UID:388-1556359200-1556384400@kcbiermeisters.com
SUMMARY:Parkville Brew Fest
DESCRIPTION:Parkville Brew fest. More details coming!
URL:https://kcbiermeisters.com/calendar/parkville-brew-fest/
LOCATION:MO
CATEGORIES:Festivals
END:VEVENT
END:VCALENDAR